BEGIN:VCALENDAR
VERSION:2.0
PRODID:eventora.com
BEGIN:VEVENT
UID:3ff49a9f-f6c2-45f4-a005-bbfb580e5fa0
DTSTAMP:20260419T150733Z
STATUS:CONFIRMED
DTSTART;TZID=GTB Standard Time:20251110T070000Z
DTEND;TZID=GTB Standard Time:20251111T160000Z
SUMMARY:CAPTURE THE FLAG CONTEST
LOCATION: - Andrea Chaliou 1 - 2408 Engomi - Nicosia - Cyprus
DESCRIPTION: 
BEGIN:VALARM
DESCRIPTION:CAPTURE THE FLAG CONTEST
TRIGGER:-PT15M
ACTION:DISPLAY
END:VALARM
TRANSP:OPAQUE
END:VEVENT
END:VCALENDAR
