BEGIN:VCALENDAR
VERSION:2.0
PRODID:eventora.com
BEGIN:VEVENT
UID:9a64fb32-ccf4-4534-a98a-26a9a09729cc
DTSTAMP:20260421T133658Z
STATUS:CONFIRMED
DTSTART;TZID=GTB Standard Time:20250927T050000Z
DTEND;TZID=GTB Standard Time:20250928T150000Z
SUMMARY:CardioVascMEDays
LOCATION:Crowne Plaza Limassol - an IHG Hotel - Προμαχών Ελευθερίας 2 - 4103 
DESCRIPTION: 
BEGIN:VALARM
DESCRIPTION:CardioVascMEDays
TRIGGER:-PT15M
ACTION:DISPLAY
END:VALARM
TRANSP:OPAQUE
END:VEVENT
END:VCALENDAR
