BEGIN:VCALENDAR
VERSION:2.0
PRODID:eventora.com
BEGIN:VEVENT
UID:ae7fb2ad-e262-416b-97ad-26599a1db000
DTSTAMP:20260423T155850Z
STATUS:CONFIRMED
DTSTART;TZID=GTB Standard Time:20251107T060000Z
DTEND;TZID=GTB Standard Time:20251109T150000Z
SUMMARY:13th Cyprus Dietetic & Nutrition Association International Conference
LOCATION:Hilton Nicosia - Achaion 1 - 2413 Egkomi - Parissinos - Cyprus
DESCRIPTION: 
BEGIN:VALARM
DESCRIPTION:13th Cyprus Dietetic & Nutrition Association International Conference
TRIGGER:-PT15M
ACTION:DISPLAY
END:VALARM
TRANSP:OPAQUE
END:VEVENT
END:VCALENDAR
