BEGIN:VCALENDAR
VERSION:2.0
PRODID:eventora.com
BEGIN:VEVENT
UID:8f3bbb9c-d052-42b6-b901-65d1ee9db1ad
DTSTAMP:20260423T025801Z
STATUS:CONFIRMED
DTSTART;TZID=Libya Standard Time:20260211T070000Z
DTEND;TZID=Libya Standard Time:20260211T120000Z
SUMMARY:Money Conference 2026
LOCATION:Hilton Nicosia - Achaion 1 - 2413 Egkomi Lefkosias - Parissinos - Cyp
DESCRIPTION: 
BEGIN:VALARM
DESCRIPTION:Money Conference 2026
TRIGGER:-PT15M
ACTION:DISPLAY
END:VALARM
TRANSP:OPAQUE
END:VEVENT
END:VCALENDAR
