BEGIN:VCALENDAR
VERSION:2.0
PRODID:eventora.com
BEGIN:VEVENT
UID:fb7dcf62-7236-45d1-9aaf-a5e0552a742f
DTSTAMP:20260419T141642Z
STATUS:CONFIRMED
DTSTART;TZID=GMT Standard Time:20260420T170000Z
DTEND;TZID=GMT Standard Time:20260420T200000Z
SUMMARY:THI - New Leaders UK Spring Networking Event
LOCATION:Gilgamesh - 4a Upper St Martin's Lane - WC2H 9NY London -  - United K
DESCRIPTION: 
BEGIN:VALARM
DESCRIPTION:THI - New Leaders UK Spring Networking Event
TRIGGER:-PT15M
ACTION:DISPLAY
END:VALARM
TRANSP:OPAQUE
END:VEVENT
END:VCALENDAR
