BEGIN:VCALENDAR
VERSION:2.0
PRODID:eventora.com
BEGIN:VEVENT
UID:347de8ec-d699-47d0-b9c2-8ca4581f6de5
DTSTAMP:20260420T121246Z
STATUS:CONFIRMED
DTSTART;TZID=GTB Standard Time:20151102T170000Z
DTEND;TZID=GTB Standard Time:20151102T193000Z
SUMMARY:"Code & Creativity" A talk with Google's Steve Vranakis - "Κώδικας & Δημιουργικότητα" Συζήτηση με τον Steve Vranakis της Google
LOCATION:Onassis Cultural Centre -Στέγη Γραμμάτων & Τεχνών - 107 - Syngrou a
DESCRIPTION: 
BEGIN:VALARM
DESCRIPTION:"Code & Creativity" A talk with Google's Steve Vranakis - "Κώδικας & Δημιουργικότητα" Συζήτηση με τον Steve Vranakis της Google
TRIGGER:-PT15M
ACTION:DISPLAY
END:VALARM
TRANSP:OPAQUE
END:VEVENT
END:VCALENDAR
