BEGIN:VCALENDAR
VERSION:2.0
PRODID:eventora.com
BEGIN:VEVENT
UID:bb089cd5-ae77-4288-98fe-a77713502328
DTSTAMP:20260424T114506Z
STATUS:CONFIRMED
DTSTART;TZID=China Standard Time:20251118T010000Z
DTEND;TZID=China Standard Time:20251118T090000Z
SUMMARY:Alternative Fuels Training Course - Hong Kong
LOCATION:The Harbourview - Harbour Road 4 -   - Wan Chai - Hong Kong
DESCRIPTION: 
BEGIN:VALARM
DESCRIPTION:Alternative Fuels Training Course - Hong Kong
TRIGGER:-PT15M
ACTION:DISPLAY
END:VALARM
TRANSP:OPAQUE
END:VEVENT
END:VCALENDAR
