BEGIN:VCALENDAR
VERSION:2.0
PRODID:eventora.com
BEGIN:VEVENT
UID:8eca5e56-688b-4e25-8ccc-5f514739c618
DTSTAMP:20260419T212616Z
STATUS:CONFIRMED
DTSTART;TZID=GTB Standard Time:20140222T070000Z
DTEND;TZID=GTB Standard Time:20140223T150000Z
SUMMARY:Από την πόλη στον Αγρό
LOCATION: - Εθνική Οδός Λαμίας Καρπενησίου  -   - Θεσσαλία Στερεά Ελλάδα - Ελλ
DESCRIPTION: 
BEGIN:VALARM
DESCRIPTION:Από την πόλη στον Αγρό
TRIGGER:-PT15M
ACTION:DISPLAY
END:VALARM
TRANSP:OPAQUE
END:VEVENT
END:VCALENDAR
