BEGIN:VCALENDAR
VERSION:2.0
PRODID:eventora.com
BEGIN:VEVENT
UID:7bc0151d-08ce-4bb7-9018-cde5e6e1dd68
DTSTAMP:20260424T181247Z
STATUS:CONFIRMED
DTSTART;TZID=GTB Standard Time:20260526T090000Z
DTEND;TZID=GTB Standard Time:20260527T133000Z
SUMMARY:Architecture Summit @ Grecotel La Riviera 2026
LOCATION:Grecotel La Riviera at Riviera Olympia & Aqua Park -   - 270 50 Λου
DESCRIPTION: 
BEGIN:VALARM
DESCRIPTION:Architecture Summit @ Grecotel La Riviera 2026
TRIGGER:-PT15M
ACTION:DISPLAY
END:VALARM
TRANSP:OPAQUE
END:VEVENT
END:VCALENDAR
