BEGIN:VCALENDAR
VERSION:2.0
PRODID:eventora.com
BEGIN:VEVENT
UID:aa56660b-ba30-4bd8-a4c9-e0c438645e06
DTSTAMP:20260424T114244Z
STATUS:CONFIRMED
DTSTART;TZID=GTB Standard Time:20181026T090000Z
DTEND;TZID=GTB Standard Time:20181209T210000Z
SUMMARY:6th Athens Biennale ANTI | Tickets
LOCATION:Κτήριο ΤΤΤ - Σταδίου 15 -  Αθήνα -  - 
DESCRIPTION: 
BEGIN:VALARM
DESCRIPTION:6th Athens Biennale ANTI | Tickets
TRIGGER:-PT15M
ACTION:DISPLAY
END:VALARM
TRANSP:OPAQUE
END:VEVENT
END:VCALENDAR
