BEGIN:VCALENDAR
VERSION:2.0
PRODID:eventora.com
BEGIN:VEVENT
UID:1703e10a-d93d-4e6c-8a2e-d9961f9209f6
DTSTAMP:20260420T051037Z
STATUS:CONFIRMED
DTSTART;TZID=GTB Standard Time:20230929T150000Z
DTEND;TZID=GTB Standard Time:20230929T190000Z
SUMMARY:Athens SDET Meetup
LOCATION:Athens Tech - Λεωφόρος Αλεξάνδρας 205 - 115 23 Αθήνα - Κεντρικός Τομ
DESCRIPTION: 
BEGIN:VALARM
DESCRIPTION:Athens SDET Meetup
TRIGGER:-PT15M
ACTION:DISPLAY
END:VALARM
TRANSP:OPAQUE
END:VEVENT
END:VCALENDAR
