BEGIN:VCALENDAR
VERSION:2.0
PRODID:eventora.com
BEGIN:VEVENT
UID:91c56390-a91e-4d85-8f98-b1b5d930d6bd
DTSTAMP:20260425T035235Z
STATUS:CONFIRMED
DTSTART;TZID=Morocco Standard Time:20200401T170000Z
DTEND;TZID=Morocco Standard Time:20200401T190000Z
SUMMARY:Best Indian DJ Dallas Services
LOCATION: - United States -  Dallas -  - United States
DESCRIPTION: 
BEGIN:VALARM
DESCRIPTION:Best Indian DJ Dallas Services
TRIGGER:-PT15M
ACTION:DISPLAY
END:VALARM
TRANSP:OPAQUE
END:VEVENT
END:VCALENDAR
