BEGIN:VCALENDAR
VERSION:2.0
PRODID:eventora.com
BEGIN:VEVENT
UID:430e849d-055a-4335-89bc-06d1cd38a7a4
DTSTAMP:20260423T150548Z
STATUS:CONFIRMED
DTSTART;TZID=GTB Standard Time:20251212T070000Z
DTEND;TZID=GTB Standard Time:20251212T150000Z
SUMMARY:Privacy & Data Protection Conference 2025
LOCATION:Radisson Blu Park Hotel - Leoforos Alexandras 10 - 106 82 Athina - K
DESCRIPTION: 
BEGIN:VALARM
DESCRIPTION:Privacy & Data Protection Conference 2025
TRIGGER:-PT15M
ACTION:DISPLAY
END:VALARM
TRANSP:OPAQUE
END:VEVENT
END:VCALENDAR
