BEGIN:VCALENDAR
VERSION:2.0
PRODID:eventora.com
BEGIN:VEVENT
UID:6e492631-deef-48ab-abf1-6b71fa166a91
DTSTAMP:20260423T052503Z
STATUS:CONFIRMED
DTSTART;TZID=GTB Standard Time:20130917T160000Z
DTEND;TZID=GTB Standard Time:20130917T170000Z
SUMMARY:Educ.ation class: Δωρεάν και Low-Cost tools to boost your Efficiency and Productivity
LOCATION:Found.ation - Evristheos 2 - 118 54 Athens - Attica - Greece
DESCRIPTION: 
BEGIN:VALARM
DESCRIPTION:Educ.ation class: Δωρεάν και Low-Cost tools to boost your Efficiency and Productivity
TRIGGER:-PT15M
ACTION:DISPLAY
END:VALARM
TRANSP:OPAQUE
END:VEVENT
END:VCALENDAR
