BEGIN:VCALENDAR
VERSION:2.0
PRODID:eventora.com
BEGIN:VEVENT
UID:392e0852-75f8-406e-9677-58d91b622c56
DTSTAMP:20260422T120228Z
STATUS:CONFIRMED
DTSTART;TZID=GTB Standard Time:20250626T060000Z
DTEND;TZID=GTB Standard Time:20250626T140000Z
SUMMARY:ΕΛΙΤΗΕ Conference 2025
LOCATION:Megaro Mousikis -   - 115 21 Athina - Kentrikos Tomeas Athinon - Gree
DESCRIPTION: 
BEGIN:VALARM
DESCRIPTION:ΕΛΙΤΗΕ Conference 2025
TRIGGER:-PT15M
ACTION:DISPLAY
END:VALARM
TRANSP:OPAQUE
END:VEVENT
END:VCALENDAR
