BEGIN:VCALENDAR
VERSION:2.0
PRODID:eventora.com
BEGIN:VEVENT
UID:6782767a-7152-4d07-b886-4797088a3cce
DTSTAMP:20260420T131035Z
STATUS:CONFIRMED
DTSTART;TZID=GTB Standard Time:20220511T063000Z
DTEND;TZID=GTB Standard Time:20220511T140000Z
SUMMARY:Energy Commodities Trading Conference 2022
LOCATION:Online
DESCRIPTION: 
BEGIN:VALARM
DESCRIPTION:Energy Commodities Trading Conference 2022
TRIGGER:-PT15M
ACTION:DISPLAY
END:VALARM
TRANSP:OPAQUE
END:VEVENT
END:VCALENDAR
