BEGIN:VCALENDAR
VERSION:2.0
PRODID:eventora.com
BEGIN:VEVENT
UID:edf25cf4-a99e-4bdd-9043-f77aad36e233
DTSTAMP:20260424T064534Z
STATUS:CONFIRMED
DTSTART;TZID=GTB Standard Time:20180905T160000Z
DTEND;TZID=GTB Standard Time:20180905T180000Z
SUMMARY:EuroTragedy: Drama in Nine Acts
LOCATION:Aegli - Zappeion -  Athens -  - Greece
DESCRIPTION: 
BEGIN:VALARM
DESCRIPTION:EuroTragedy: Drama in Nine Acts
TRIGGER:-PT15M
ACTION:DISPLAY
END:VALARM
TRANSP:OPAQUE
END:VEVENT
END:VCALENDAR
