BEGIN:VCALENDAR
VERSION:2.0
PRODID:eventora.com
BEGIN:VEVENT
UID:1d67c83b-ea88-48de-9f99-aef56740f5cf
DTSTAMP:20260421T231117Z
STATUS:CONFIRMED
DTSTART;TZID=GTB Standard Time:20240628T170000Z
DTEND;TZID=GTB Standard Time:20240628T203000Z
SUMMARY:Follow the Music Vol.5
LOCATION:Famagusta Castle Arcade - Görmüş Sokak  - 99450 Gazimağusa - Suriçi -
DESCRIPTION: 
BEGIN:VALARM
DESCRIPTION:Follow the Music Vol.5
TRIGGER:-PT15M
ACTION:DISPLAY
END:VALARM
TRANSP:OPAQUE
END:VEVENT
END:VCALENDAR
