BEGIN:VCALENDAR
VERSION:2.0
PRODID:eventora.com
BEGIN:VEVENT
UID:ff344730-9ea8-4d7d-b8c4-69eff0f73d29
DTSTAMP:20260426T021701Z
STATUS:CONFIRMED
DTSTART;TZID=GTB Standard Time:20240409T060000Z
DTEND;TZID=GTB Standard Time:20240409T140000Z
SUMMARY:Food Retail Conference 2024
LOCATION:Αμφιθέατρο OTEAcademy -   - 151 22 Marousi - Vorios Tomeas Athinon - 
DESCRIPTION: 
BEGIN:VALARM
DESCRIPTION:Food Retail Conference 2024
TRIGGER:-PT15M
ACTION:DISPLAY
END:VALARM
TRANSP:OPAQUE
END:VEVENT
END:VCALENDAR
