BEGIN:VCALENDAR
VERSION:2.0
PRODID:eventora.com
BEGIN:VEVENT
UID:1c582b7d-2ffe-4a2b-ab1f-c17c9a51c4b6
DTSTAMP:20260420T163108Z
STATUS:CONFIRMED
DTSTART;TZID=GTB Standard Time:20140409T060000Z
DTEND;TZID=GTB Standard Time:20140409T150000Z
SUMMARY:Εκδήλωση Πανευρωπαϊκής εκστρατείας Getonline Week 2014
LOCATION: - Gravias 6 - 153 42 Agia Paraskevi - Attica - Greece
DESCRIPTION: 
BEGIN:VALARM
DESCRIPTION:Εκδήλωση Πανευρωπαϊκής εκστρατείας Getonline Week 2014
TRIGGER:-PT15M
ACTION:DISPLAY
END:VALARM
TRANSP:OPAQUE
END:VEVENT
END:VCALENDAR
