BEGIN:VCALENDAR
VERSION:2.0
PRODID:eventora.com
BEGIN:VEVENT
UID:0054787a-aa30-46ea-adc8-bdd0906007f3
DTSTAMP:20260419T190811Z
STATUS:CONFIRMED
DTSTART;TZID=GTB Standard Time:20181208T090000Z
DTEND;TZID=GTB Standard Time:20181208T130000Z
SUMMARY:H Ώρα του Κώδικα για παιδιά 6 - 12 χρονών στο The HUB Events
LOCATION:THE HUB EVENTS - Alkminis 5 - 118 54 Athina - Kentrikos Tomeas Athin
DESCRIPTION: 
BEGIN:VALARM
DESCRIPTION:H Ώρα του Κώδικα για παιδιά 6 - 12 χρονών στο The HUB Events
TRIGGER:-PT15M
ACTION:DISPLAY
END:VALARM
TRANSP:OPAQUE
END:VEVENT
END:VCALENDAR
