BEGIN:VCALENDAR
VERSION:2.0
PRODID:eventora.com
BEGIN:VEVENT
UID:fc208d88-b513-4bb6-b4a1-e9e4e2834e09
DTSTAMP:20260426T034056Z
STATUS:CONFIRMED
DTSTART;TZID=GTB Standard Time:20140909T160000Z
DTEND;TZID=GTB Standard Time:20140909T180000Z
SUMMARY:Health 2.0 Athens meetup @ 9/9
LOCATION:Found.ation (Loft C4) - 123 Pireos street - 118 54 Athens - Attica - 
DESCRIPTION: 
BEGIN:VALARM
DESCRIPTION:Health 2.0 Athens meetup @ 9/9
TRIGGER:-PT15M
ACTION:DISPLAY
END:VALARM
TRANSP:OPAQUE
END:VEVENT
END:VCALENDAR
