BEGIN:VCALENDAR
VERSION:2.0
PRODID:eventora.com
BEGIN:VEVENT
UID:c3b9601f-0983-45c5-ad9f-d1541f6e281d
DTSTAMP:20260423T174350Z
STATUS:CONFIRMED
DTSTART;TZID=GTB Standard Time:20210615T060000Z
DTEND;TZID=GTB Standard Time:20210616T140000Z
SUMMARY:HealthIT Conference 2021
LOCATION:Online
DESCRIPTION: 
BEGIN:VALARM
DESCRIPTION:HealthIT Conference 2021
TRIGGER:-PT15M
ACTION:DISPLAY
END:VALARM
TRANSP:OPAQUE
END:VEVENT
END:VCALENDAR
