BEGIN:VCALENDAR
VERSION:2.0
PRODID:eventora.com
BEGIN:VEVENT
UID:ec74d146-57e0-460f-9235-ce7abe2bbf95
DTSTAMP:20260420T231837Z
STATUS:CONFIRMED
DTSTART;TZID=GTB Standard Time:20241029T070000Z
DTEND;TZID=GTB Standard Time:20241030T150000Z
SUMMARY:HealthIT Conference 2024
LOCATION:OTEAcademy -   - 151 22 Marousi - Vorios Tomeas Athinon - Greece
DESCRIPTION: 
BEGIN:VALARM
DESCRIPTION:HealthIT Conference 2024
TRIGGER:-PT15M
ACTION:DISPLAY
END:VALARM
TRANSP:OPAQUE
END:VEVENT
END:VCALENDAR
