BEGIN:VCALENDAR
VERSION:2.0
PRODID:eventora.com
BEGIN:VEVENT
UID:cd3b333f-af77-4b8c-80a9-fc35bb3da2a3
DTSTAMP:20260421T085238Z
STATUS:CONFIRMED
DTSTART;TZID=GTB Standard Time:20180504T053000Z
DTEND;TZID=GTB Standard Time:20180504T143000Z
SUMMARY:Hellenic ACFE
LOCATION:Megaron Athens Concert Hall - Vass.Sophias & Kokkali - 115 21 Athen
DESCRIPTION: 
BEGIN:VALARM
DESCRIPTION:Hellenic ACFE
TRIGGER:-PT15M
ACTION:DISPLAY
END:VALARM
TRANSP:OPAQUE
END:VEVENT
END:VCALENDAR
