BEGIN:VCALENDAR
VERSION:2.0
PRODID:eventora.com
BEGIN:VEVENT
UID:f4adea79-9b66-4ee4-be7e-747e71139636
DTSTAMP:20260419T225214Z
STATUS:CONFIRMED
DTSTART;TZID=GTB Standard Time:20160614T150000Z
DTEND;TZID=GTB Standard Time:20160712T173000Z
SUMMARY:High Success (6 steps to success)
LOCATION:Apivita Experience Store - Solonos 6 - 106 73 Athina -  - Greece
DESCRIPTION: 
BEGIN:VALARM
DESCRIPTION:High Success (6 steps to success)
TRIGGER:-PT15M
ACTION:DISPLAY
END:VALARM
TRANSP:OPAQUE
END:VEVENT
END:VCALENDAR
