BEGIN:VCALENDAR
VERSION:2.0
PRODID:eventora.com
BEGIN:VEVENT
UID:d08bc550-6ffc-46bc-86c3-d6158a133bfe
DTSTAMP:20260424T201038Z
STATUS:CONFIRMED
DTSTART;TZID=GTB Standard Time:20251018T080000Z
DTEND;TZID=GTB Standard Time:20251019T170000Z
SUMMARY:HOTEL EXPERIENCE VOL.2
LOCATION:Τεχνόπολη Δήμου Αθηναίων - Πειραιώς 100 - 118 54 Αθήνα - Κεντρικός Τ
DESCRIPTION: 
BEGIN:VALARM
DESCRIPTION:HOTEL EXPERIENCE VOL.2
TRIGGER:-PT15M
ACTION:DISPLAY
END:VALARM
TRANSP:OPAQUE
END:VEVENT
END:VCALENDAR
