BEGIN:VCALENDAR
VERSION:2.0
PRODID:eventora.com
BEGIN:VEVENT
UID:c9e23c67-3f26-4065-bab2-89299d3a02a1
DTSTAMP:20260420T140831Z
STATUS:CONFIRMED
DTSTART;TZID=GTB Standard Time:20251020T090000Z
DTEND;TZID=GTB Standard Time:20251021T133000Z
SUMMARY:HR Summit @ Grecotel La Riviera 2025
LOCATION:Grecotel La Riviera at Riviera Olympia & Aqua Park -   - 270 50 Λου
DESCRIPTION: 
BEGIN:VALARM
DESCRIPTION:HR Summit @ Grecotel La Riviera 2025
TRIGGER:-PT15M
ACTION:DISPLAY
END:VALARM
TRANSP:OPAQUE
END:VEVENT
END:VCALENDAR
