BEGIN:VCALENDAR
VERSION:2.0
PRODID:eventora.com
BEGIN:VEVENT
UID:0611ab12-feaf-4594-a8bd-456134f583e0
DTSTAMP:20260419T132515Z
STATUS:CONFIRMED
DTSTART;TZID=Kaliningrad Standard Time:20131003T160000Z
DTEND;TZID=Kaliningrad Standard Time:20131003T180000Z
SUMMARY:Educ.ation: HTML for non-Programmers
LOCATION:Found.ation - Evristheos 2 - 118 54 Athens - Attica - Greece
DESCRIPTION: 
BEGIN:VALARM
DESCRIPTION:Educ.ation: HTML for non-Programmers
TRIGGER:-PT15M
ACTION:DISPLAY
END:VALARM
TRANSP:OPAQUE
END:VEVENT
END:VCALENDAR
