BEGIN:VCALENDAR
VERSION:2.0
PRODID:eventora.com
BEGIN:VEVENT
UID:71b91ccf-b6c1-4360-9e86-09004ad71696
DTSTAMP:20260423T215334Z
STATUS:CONFIRMED
DTSTART;TZID=GTB Standard Time:20181211T153000Z
DTEND;TZID=GTB Standard Time:20181211T190000Z
SUMMARY:IGNITE @Reload: DEVELOPING YOUR IDEA - Heraklion
LOCATION:Computer Science Department University of Crete -  Τμήμα Επιστήμης
DESCRIPTION: 
BEGIN:VALARM
DESCRIPTION:IGNITE @Reload: DEVELOPING YOUR IDEA - Heraklion
TRIGGER:-PT15M
ACTION:DISPLAY
END:VALARM
TRANSP:OPAQUE
END:VEVENT
END:VCALENDAR
