BEGIN:VCALENDAR
VERSION:2.0
PRODID:eventora.com
BEGIN:VEVENT
UID:892163c4-6156-4a42-8e19-10676344c5de
DTSTAMP:20260422T202351Z
STATUS:CONFIRMED
DTSTART;TZID=GTB Standard Time:20201006T150000Z
DTEND;TZID=GTB Standard Time:20201031T180000Z
SUMMARY:iMEdD – Ideas Zone Online Workshops October 2020
LOCATION:
DESCRIPTION: 
BEGIN:VALARM
DESCRIPTION:iMEdD – Ideas Zone Online Workshops October 2020
TRIGGER:-PT15M
ACTION:DISPLAY
END:VALARM
TRANSP:OPAQUE
END:VEVENT
END:VCALENDAR
