BEGIN:VCALENDAR
VERSION:2.0
PRODID:eventora.com
BEGIN:VEVENT
UID:c26e0b85-bbbe-4b07-957d-396769ac6860
DTSTAMP:20260419T171407Z
STATUS:CONFIRMED
DTSTART;TZID=Romance Standard Time:20251125T110000Z
DTEND;TZID=Romance Standard Time:20251127T200000Z
SUMMARY:Jo Malone London Fun & Games Pop-Up
LOCATION:Amalias 36 - Leoforos Vasilisis Amalias 36 - 105 58 Athina - Kentrik
DESCRIPTION: 
BEGIN:VALARM
DESCRIPTION:Jo Malone London Fun & Games Pop-Up
TRIGGER:-PT15M
ACTION:DISPLAY
END:VALARM
TRANSP:OPAQUE
END:VEVENT
END:VCALENDAR
