BEGIN:VCALENDAR
VERSION:2.0
PRODID:eventora.com
BEGIN:VEVENT
UID:83a06a8d-c261-4047-98c7-341229d327ef
DTSTAMP:20260420T053237Z
STATUS:CONFIRMED
DTSTART;TZID=GTB Standard Time:20240926T080000Z
DTEND;TZID=GTB Standard Time:20240926T154500Z
SUMMARY:Connectivity Horizons in Greece | LANCOM – AMS-IX EVENT
LOCATION:Divani Caravel Hotel - Leoforos Vasileos Alexandrou 2 - 161 21 Athi
DESCRIPTION: 
BEGIN:VALARM
DESCRIPTION:Connectivity Horizons in Greece | LANCOM – AMS-IX EVENT
TRIGGER:-PT15M
ACTION:DISPLAY
END:VALARM
TRANSP:OPAQUE
END:VEVENT
END:VCALENDAR
