BEGIN:VCALENDAR
VERSION:2.0
PRODID:eventora.com
BEGIN:VEVENT
UID:41d21424-fe51-4ad8-b93c-4d6695331bb1
DTSTAMP:20260424T022226Z
STATUS:CONFIRMED
DTSTART;TZID=GTB Standard Time:20240519T073000Z
DTEND;TZID=GTB Standard Time:20240519T123000Z
SUMMARY:Larnaka 2030 | one YEAR co-creating
LOCATION:Multipurpose Social Welfare and Employment Space of the Municipal
DESCRIPTION: 
BEGIN:VALARM
DESCRIPTION:Larnaka 2030 | one YEAR co-creating
TRIGGER:-PT15M
ACTION:DISPLAY
END:VALARM
TRANSP:OPAQUE
END:VEVENT
END:VCALENDAR
