BEGIN:VCALENDAR
VERSION:2.0
PRODID:eventora.com
BEGIN:VEVENT
UID:53a6bc99-61c0-4d6c-b843-24212608262f
DTSTAMP:20260424T175830Z
STATUS:CONFIRMED
DTSTART;TZID=GTB Standard Time:20240926T063000Z
DTEND;TZID=GTB Standard Time:20240926T140000Z
SUMMARY:Learning & Development Conference 2024
LOCATION:Sofitel Athens Airport -   - 190 19 Spata - Anatoliki Attiki - Greece
DESCRIPTION: 
BEGIN:VALARM
DESCRIPTION:Learning & Development Conference 2024
TRIGGER:-PT15M
ACTION:DISPLAY
END:VALARM
TRANSP:OPAQUE
END:VEVENT
END:VCALENDAR
