BEGIN:VCALENDAR
VERSION:2.0
PRODID:eventora.com
BEGIN:VEVENT
UID:c6338f3c-109b-42d0-8a44-ebd33ce9c42a
DTSTAMP:20260420T165116Z
STATUS:CONFIRMED
DTSTART;TZID=GTB Standard Time:20130628T093000Z
DTEND;TZID=GTB Standard Time:20130629T163000Z
SUMMARY: Lunch for Euruko Athens 2013 Delegates
LOCATION:
DESCRIPTION: 
BEGIN:VALARM
DESCRIPTION: Lunch for Euruko Athens 2013 Delegates
TRIGGER:-PT15M
ACTION:DISPLAY
END:VALARM
TRANSP:OPAQUE
END:VEVENT
END:VCALENDAR
