BEGIN:VCALENDAR
VERSION:2.0
PRODID:eventora.com
BEGIN:VEVENT
UID:ea8bf85c-369e-4cb9-91d6-8b2289fd3136
DTSTAMP:20260424T114417Z
STATUS:CONFIRMED
DTSTART;TZID=China Standard Time:20251118T060000Z
DTEND;TZID=China Standard Time:20251118T100000Z
SUMMARY:The Role of Mass Flow Meter System - Strengthening Accountability and Transparency in the Future of Bunkering
LOCATION:The Harbourview - Harbour Road 4 -   - Wan Chai - Hong Kong
DESCRIPTION: 
BEGIN:VALARM
DESCRIPTION:The Role of Mass Flow Meter System - Strengthening Accountability and Transparency in the Future of Bunkering
TRIGGER:-PT15M
ACTION:DISPLAY
END:VALARM
TRANSP:OPAQUE
END:VEVENT
END:VCALENDAR
