BEGIN:VCALENDAR
VERSION:2.0
PRODID:eventora.com
BEGIN:VEVENT
UID:978c9f60-b021-40a3-99df-b0849f8610f0
DTSTAMP:20260419T180044Z
STATUS:CONFIRMED
DTSTART;TZID=GTB Standard Time:20221102T080000Z
DTEND;TZID=GTB Standard Time:20221104T120000Z
SUMMARY:Annual Conference of Major Cities of Europe
LOCATION:Municipal Art Gallery of Larissa G.I. Katsigras Museum - Georgiou 
DESCRIPTION: 
BEGIN:VALARM
DESCRIPTION:Annual Conference of Major Cities of Europe
TRIGGER:-PT15M
ACTION:DISPLAY
END:VALARM
TRANSP:OPAQUE
END:VEVENT
END:VCALENDAR
