BEGIN:VCALENDAR
VERSION:2.0
PRODID:eventora.com
BEGIN:VEVENT
UID:1c98e919-7a65-4b0f-b66b-473a0239dbca
DTSTAMP:20260425T152406Z
STATUS:CONFIRMED
DTSTART;TZID=GTB Standard Time:20260327T080000Z
DTEND;TZID=GTB Standard Time:20260330T170000Z
SUMMARY:Medwood Plus 2026
LOCATION:ATHENS METROPOLITAN EXPO A.E. -  - 190 19 Spata - Anatoliki Attiki - 
DESCRIPTION: 
BEGIN:VALARM
DESCRIPTION:Medwood Plus 2026
TRIGGER:-PT15M
ACTION:DISPLAY
END:VALARM
TRANSP:OPAQUE
END:VEVENT
END:VCALENDAR
