BEGIN:VCALENDAR
VERSION:2.0
PRODID:eventora.com
BEGIN:VEVENT
UID:9876f3f7-c7f4-4333-9721-a9ab45bcea02
DTSTAMP:20260419T144754Z
STATUS:CONFIRMED
DTSTART;TZID=GTB Standard Time:20250708T050000Z
DTEND;TZID=GTB Standard Time:20250708T180000Z
SUMMARY:MIT Universal AI Summit - 2025
LOCATION:Athens College Theater  - Stefanou Delta 15 - 154 52 Psychiko - Athe
DESCRIPTION: 
BEGIN:VALARM
DESCRIPTION:MIT Universal AI Summit - 2025
TRIGGER:-PT15M
ACTION:DISPLAY
END:VALARM
TRANSP:OPAQUE
END:VEVENT
END:VCALENDAR
