BEGIN:VCALENDAR
VERSION:2.0
PRODID:eventora.com
BEGIN:VEVENT
UID:b99d8bcd-e0c1-4088-8e39-358c09702268
DTSTAMP:20260426T001348Z
STATUS:CONFIRMED
DTSTART;TZID=GTB Standard Time:20180523T150000Z
DTEND;TZID=GTB Standard Time:20180524T180000Z
SUMMARY:MIXX Awards Europe 2018
LOCATION:Superstudio Più - Via Tortona 27 - 20144 Milano - Città Metropolitan
DESCRIPTION: 
BEGIN:VALARM
DESCRIPTION:MIXX Awards Europe 2018
TRIGGER:-PT15M
ACTION:DISPLAY
END:VALARM
TRANSP:OPAQUE
END:VEVENT
END:VCALENDAR
