BEGIN:VCALENDAR
VERSION:2.0
PRODID:eventora.com
BEGIN:VEVENT
UID:61c3283e-14e3-4f9f-8f0b-10dc3c1b7dd1
DTSTAMP:20260425T165603Z
STATUS:CONFIRMED
DTSTART;TZID=GTB Standard Time:20250218T163000Z
DTEND;TZID=GTB Standard Time:20250218T200000Z
SUMMARY:Professional Journey: Adapting to the Future of Work
LOCATION:The American College of Greece- Events Hall - 6 Gravias str. - 153 
DESCRIPTION: 
BEGIN:VALARM
DESCRIPTION:Professional Journey: Adapting to the Future of Work
TRIGGER:-PT15M
ACTION:DISPLAY
END:VALARM
TRANSP:OPAQUE
END:VEVENT
END:VCALENDAR
