BEGIN:VCALENDAR
VERSION:2.0
PRODID:eventora.com
BEGIN:VEVENT
UID:18169503-f339-47b6-99d2-cb94c6c3b1b7
DTSTAMP:20260423T125232Z
STATUS:CONFIRMED
DTSTART;TZID=GTB Standard Time:20190910T150000Z
DTEND;TZID=GTB Standard Time:20190910T170000Z
SUMMARY:The Agrifood Revolution | Event by New Agriculture for a New Generation - Rutgers University
LOCATION:Olympias - Vellidio  - Leoforos Stratou 3 - 546 39 Thessaloniki - Th
DESCRIPTION: 
BEGIN:VALARM
DESCRIPTION:The Agrifood Revolution | Event by New Agriculture for a New Generation - Rutgers University
TRIGGER:-PT15M
ACTION:DISPLAY
END:VALARM
TRANSP:OPAQUE
END:VEVENT
END:VCALENDAR
