BEGIN:VCALENDAR
VERSION:2.0
PRODID:eventora.com
BEGIN:VEVENT
UID:3f51340e-186a-4e30-9d2d-7a41d5fb8423
DTSTAMP:20260423T090544Z
STATUS:CONFIRMED
DTSTART;TZID=GTB Standard Time:20200918T060000Z
DTEND;TZID=GTB Standard Time:20200918T080000Z
SUMMARY:The sealing surface of slab gate valves
LOCATION:CA - ca -  ca - ca - USA
DESCRIPTION: 
BEGIN:VALARM
DESCRIPTION:The sealing surface of slab gate valves
TRIGGER:-PT15M
ACTION:DISPLAY
END:VALARM
TRANSP:OPAQUE
END:VEVENT
END:VCALENDAR
