BEGIN:VCALENDAR
VERSION:2.0
PRODID:eventora.com
BEGIN:VEVENT
UID:532549b2-5b79-49e1-809f-237404088c7b
DTSTAMP:20260423T161644Z
STATUS:CONFIRMED
DTSTART;TZID=GTB Standard Time:20181002T140000Z
DTEND;TZID=GTB Standard Time:20181002T190000Z
SUMMARY:MAN Energy Solutions Two-Stroke Engines
LOCATION:MAN Diesel & Turbo Hellas - PrimeServ Academy Piraeus - Akti Miaou
DESCRIPTION: 
BEGIN:VALARM
DESCRIPTION:MAN Energy Solutions Two-Stroke Engines
TRIGGER:-PT15M
ACTION:DISPLAY
END:VALARM
TRANSP:OPAQUE
END:VEVENT
END:VCALENDAR
