BEGIN:VCALENDAR
VERSION:2.0
PRODID:eventora.com
BEGIN:VEVENT
UID:d72c2b9f-549d-488a-aea9-c95d2877430c
DTSTAMP:20260424T091420Z
STATUS:CONFIRMED
DTSTART;TZID=GTB Standard Time:20191030T163000Z
DTEND;TZID=GTB Standard Time:20191030T183000Z
SUMMARY:DIALOGUES
LOCATION:Dome - Stavros Niarchos Foundation Cultural Center - Leoforos Andre
DESCRIPTION: 
BEGIN:VALARM
DESCRIPTION:DIALOGUES
TRIGGER:-PT15M
ACTION:DISPLAY
END:VALARM
TRANSP:OPAQUE
END:VEVENT
END:VCALENDAR
