BEGIN:VCALENDAR
VERSION:2.0
PRODID:eventora.com
BEGIN:VEVENT
UID:fdc9107c-a57d-488f-9b21-5b6932236ac9
DTSTAMP:20260422T101200Z
STATUS:CONFIRMED
DTSTART;TZID=GTB Standard Time:20220417T080000Z
DTEND;TZID=GTB Standard Time:20220417T093000Z
SUMMARY:SNFCC Members’ Kids Workshop x NEON | «What does it resemble?»
LOCATION:Stavros Niarchos Foundation Cultural Center - 364 - Syggrou Ave. - 1
DESCRIPTION: 
BEGIN:VALARM
DESCRIPTION:SNFCC Members’ Kids Workshop x NEON | «What does it resemble?»
TRIGGER:-PT15M
ACTION:DISPLAY
END:VALARM
TRANSP:OPAQUE
END:VEVENT
END:VCALENDAR
