BEGIN:VCALENDAR
VERSION:2.0
PRODID:eventora.com
BEGIN:VEVENT
UID:9e528d13-e63d-486b-a60a-6553c01f3e90
DTSTAMP:20260420T084347Z
STATUS:CONFIRMED
DTSTART;TZID=GTB Standard Time:20250405T070000Z
DTEND;TZID=GTB Standard Time:20250406T140000Z
SUMMARY:Spring ’25 Athens International Publishers Exhibition
LOCATION:Divani Caravel Hotel - Leoforos Vasileos Alexandrou 2 - 161 21 Athi
DESCRIPTION: 
BEGIN:VALARM
DESCRIPTION:Spring ’25 Athens International Publishers Exhibition
TRIGGER:-PT15M
ACTION:DISPLAY
END:VALARM
TRANSP:OPAQUE
END:VEVENT
END:VCALENDAR
