BEGIN:VCALENDAR
VERSION:2.0
PRODID:eventora.com
BEGIN:VEVENT
UID:325e6f17-1475-4efd-aff4-39c3db184ef2
DTSTAMP:20260422T223023Z
STATUS:CONFIRMED
DTSTART;TZID=GTB Standard Time:20180707T220000Z
DTEND;TZID=GTB Standard Time:20180715T090000Z
SUMMARY:Summer School in Parnon, Greece 2018
LOCATION:Leonidio -   - 223 00 Leonidio - Arcadia - Greece
DESCRIPTION: 
BEGIN:VALARM
DESCRIPTION:Summer School in Parnon, Greece 2018
TRIGGER:-PT15M
ACTION:DISPLAY
END:VALARM
TRANSP:OPAQUE
END:VEVENT
END:VCALENDAR
