BEGIN:VCALENDAR
VERSION:2.0
PRODID:eventora.com
BEGIN:VEVENT
UID:dcaa4cd2-605f-4257-9483-e2927cb19452
DTSTAMP:20260419T122828Z
STATUS:CONFIRMED
DTSTART;TZID=GTB Standard Time:20251203T070000Z
DTEND;TZID=GTB Standard Time:20251203T150000Z
SUMMARY:Sustainable Manufacturing Conference 2025
LOCATION:Novotel Athenes - Michail Voda Str - 104 39 Athina - Kentrikos Tomea
DESCRIPTION: 
BEGIN:VALARM
DESCRIPTION:Sustainable Manufacturing Conference 2025
TRIGGER:-PT15M
ACTION:DISPLAY
END:VALARM
TRANSP:OPAQUE
END:VEVENT
END:VCALENDAR
